BEGIN:VCALENDAR
VERSION:2.0
CALSCALE:GREGORIAN
PRODID:adamgibbons/ics
METHOD:PUBLISH
X-PUBLISHED-TTL:PT1H
BEGIN:VEVENT
UID:pFcxk2pxTjuH4y72YbWh0
SUMMARY:Easter Sunday 2026
DTSTAMP:20260425T142310Z
DTSTART;VALUE=DATE:20260405
DTEND;VALUE=DATE:20260406
DESCRIPTION:Easter Sunday is the most important Christian holiday\, celebra
	ting the resurrection of Jesus Christ. It's also celebrated with Easter eg
	gs\, bunnies\, and spring festivities.
STATUS:CONFIRMED
X-MICROSOFT-CDO-BUSYSTATUS:FREE
END:VEVENT
END:VCALENDAR
