BEGIN:VCALENDAR
VERSION:2.0
CALSCALE:GREGORIAN
PRODID:adamgibbons/ics
METHOD:PUBLISH
X-PUBLISHED-TTL:PT1H
BEGIN:VEVENT
UID:iWXYQE-d62Fse609UU5Z5
SUMMARY:Earth Day 2026
DTSTAMP:20260425T141953Z
DTSTART;VALUE=DATE:20260422
DTEND;VALUE=DATE:20260423
DESCRIPTION:Earth Day is an annual event dedicated to environmental protect
	ion. Join billions of people taking action for a sustainable future and a 
	healthy planet.
STATUS:CONFIRMED
X-MICROSOFT-CDO-BUSYSTATUS:FREE
END:VEVENT
END:VCALENDAR
