BEGIN:VCALENDAR
VERSION:2.0
CALSCALE:GREGORIAN
PRODID:adamgibbons/ics
METHOD:PUBLISH
X-PUBLISHED-TTL:PT1H
BEGIN:VEVENT
UID:5gXpIGIuZIpz8fQCv4faa
SUMMARY:Diwali 2026 - Festival of Lights
DTSTAMP:20260425T142207Z
DTSTART;VALUE=DATE:20261108
DTEND;VALUE=DATE:20261109
DESCRIPTION:Diwali is the Hindu festival of lights\, symbolizing the victor
	y of light over darkness and good over evil. Celebrated with oil lamps\, f
	ireworks\, sweets\, and family gatherings.
STATUS:CONFIRMED
X-MICROSOFT-CDO-BUSYSTATUS:FREE
END:VEVENT
END:VCALENDAR
