BEGIN:VCALENDAR
VERSION:2.0
CALSCALE:GREGORIAN
PRODID:adamgibbons/ics
METHOD:PUBLISH
X-PUBLISHED-TTL:PT1H
BEGIN:VEVENT
UID:DakK8Nnme2TwTDfj00NsD
SUMMARY:Computex 2026
DTSTAMP:20260425T124520Z
DTSTART;VALUE=DATE:20260602
DTEND;VALUE=DATE:20260606
DESCRIPTION:Computex is one of the largest technology trade shows in the wo
	rld. See the latest in PC hardware\, components\, gaming tech\, and innova
	tive computing solutions.
LOCATION:Taipei Nangang Exhibition Center\, Taipei\, Taiwan
STATUS:CONFIRMED
X-MICROSOFT-CDO-BUSYSTATUS:FREE
END:VEVENT
END:VCALENDAR
