BEGIN:VCALENDAR
VERSION:2.0
CALSCALE:GREGORIAN
PRODID:adamgibbons/ics
METHOD:PUBLISH
X-PUBLISHED-TTL:PT1H
BEGIN:VEVENT
UID:Tm_dh7qQi2dIrowfnXlnR
SUMMARY:Cold Moon Supermoon 2026
DTSTAMP:20260425T142744Z
DTSTART;VALUE=DATE:20261223
DTEND;VALUE=DATE:20261224
DESCRIPTION:The Cold Moon is December's full moon. In 2026\, it's also a su
	permoon\, appearing up to 14% larger and 30% brighter than a typical full 
	moon.
STATUS:CONFIRMED
X-MICROSOFT-CDO-BUSYSTATUS:FREE
END:VEVENT
END:VCALENDAR
