BEGIN:VCALENDAR
VERSION:2.0
CALSCALE:GREGORIAN
PRODID:adamgibbons/ics
METHOD:PUBLISH
X-PUBLISHED-TTL:PT1H
BEGIN:VEVENT
UID:i5S7-MxeRJFpQPpKQdXay
SUMMARY:Cinco de Mayo 2026
DTSTAMP:20260425T125322Z
DTSTART;VALUE=DATE:20260505
DTEND;VALUE=DATE:20260506
DESCRIPTION:Cinco de Mayo commemorates the Mexican Army's victory at the Ba
	ttle of Puebla. Celebrate Mexican culture with food\, music\, dance\, and 
	festivities.
STATUS:CONFIRMED
X-MICROSOFT-CDO-BUSYSTATUS:FREE
END:VEVENT
END:VCALENDAR
