BEGIN:VCALENDAR
VERSION:2.0
CALSCALE:GREGORIAN
PRODID:adamgibbons/ics
METHOD:PUBLISH
X-PUBLISHED-TTL:PT1H
BEGIN:VEVENT
UID:M48QxL-x6FCvP3oxuuHoO
SUMMARY:Christmas Eve 2026
DTSTAMP:20260425T142421Z
DTSTART;VALUE=DATE:20261224
DTEND;VALUE=DATE:20261225
DESCRIPTION:Christmas Eve is the evening before Christmas Day. Many familie
	s attend church services\, exchange gifts\, and enjoy special traditions o
	n this magical night.
STATUS:CONFIRMED
X-MICROSOFT-CDO-BUSYSTATUS:FREE
END:VEVENT
END:VCALENDAR
