BEGIN:VCALENDAR
VERSION:2.0
CALSCALE:GREGORIAN
PRODID:adamgibbons/ics
METHOD:PUBLISH
X-PUBLISHED-TTL:PT1H
BEGIN:VEVENT
UID:YWFkUQbrCK9uYPiJ4X1a6
SUMMARY:Christmas Day 2026
DTSTAMP:20260425T142539Z
DTSTART;VALUE=DATE:20261225
DTEND;VALUE=DATE:20261226
DESCRIPTION:Christmas Day celebrates the birth of Jesus Christ and is one o
	f the most widely celebrated holidays worldwide. Enjoy gift-giving\, festi
	ve meals\, and time with loved ones.
STATUS:CONFIRMED
X-MICROSOFT-CDO-BUSYSTATUS:FREE
END:VEVENT
END:VCALENDAR
