BEGIN:VCALENDAR
VERSION:2.0
CALSCALE:GREGORIAN
PRODID:adamgibbons/ics
METHOD:PUBLISH
X-PUBLISHED-TTL:PT1H
BEGIN:VEVENT
UID:RzTNydxzYuRepVpl0P6ZP
SUMMARY:Chinese New Year 2026 - Year of the Horse
DTSTAMP:20260425T143113Z
DTSTART;VALUE=DATE:20260217
DTEND;VALUE=DATE:20260218
DESCRIPTION:Chinese New Year\, also known as Lunar New Year or Spring Festi
	val\, is the most important traditional festival in Chinese culture. 2026 
	is the Year of the Horse.
STATUS:CONFIRMED
X-MICROSOFT-CDO-BUSYSTATUS:FREE
END:VEVENT
END:VCALENDAR
