BEGIN:VCALENDAR
VERSION:2.0
CALSCALE:GREGORIAN
PRODID:adamgibbons/ics
METHOD:PUBLISH
X-PUBLISHED-TTL:PT1H
BEGIN:VEVENT
UID:lt4Sg2kAmHR65QWJjb2o5
SUMMARY:CES 2026
DTSTAMP:20260425T141645Z
DTSTART;VALUE=DATE:20260106
DTEND;VALUE=DATE:20260110
DESCRIPTION:CES is the world's largest and most influential technology trad
	e show. Discover the latest innovations in AI\, automotive tech\, smart ho
	me\, and consumer electronics.
LOCATION:Las Vegas Convention Center\, Las Vegas\, United States
STATUS:CONFIRMED
X-MICROSOFT-CDO-BUSYSTATUS:FREE
END:VEVENT
END:VCALENDAR
