BEGIN:VCALENDAR
VERSION:2.0
CALSCALE:GREGORIAN
PRODID:adamgibbons/ics
METHOD:PUBLISH
X-PUBLISHED-TTL:PT1H
BEGIN:VEVENT
UID:PsFNFIrKkM8Ow_E-ZJJfv
SUMMARY:Autumn Equinox 2026
DTSTAMP:20260425T143133Z
DTSTART;VALUE=DATE:20260922
DTEND;VALUE=DATE:20260923
DESCRIPTION:The autumn equinox marks the astronomical beginning of fall in 
	the Northern Hemisphere. Day and night are approximately equal in length.
STATUS:CONFIRMED
X-MICROSOFT-CDO-BUSYSTATUS:FREE
END:VEVENT
END:VCALENDAR
