BEGIN:VCALENDAR
VERSION:2.0
CALSCALE:GREGORIAN
PRODID:adamgibbons/ics
METHOD:PUBLISH
X-PUBLISHED-TTL:PT1H
BEGIN:VEVENT
UID:e7L2_T7aoZYc8IZBWd-Wh
SUMMARY:April Fools' Day 2026
DTSTAMP:20260425T143256Z
DTSTART;VALUE=DATE:20260401
DTEND;VALUE=DATE:20260402
DESCRIPTION:April Fools' Day is celebrated with practical jokes\, hoaxes\, 
	and humorous pranks. Media outlets and brands often join in with elaborate
	 fake announcements.
STATUS:CONFIRMED
X-MICROSOFT-CDO-BUSYSTATUS:FREE
END:VEVENT
END:VCALENDAR
