BEGIN:VCALENDAR
VERSION:2.0
CALSCALE:GREGORIAN
PRODID:adamgibbons/ics
METHOD:PUBLISH
X-PUBLISHED-TTL:PT1H
BEGIN:VEVENT
UID:nImsTiNNsTRsWPLZ0ceS4
SUMMARY:Apple WWDC 2026
DTSTAMP:20260425T141809Z
DTSTART;VALUE=DATE:20260608
DTEND;VALUE=DATE:20260613
DESCRIPTION:WWDC is Apple's annual developer conference featuring previews 
	of iOS\, macOS\, watchOS\, and tvOS. Discover the future of Apple's platfo
	rms.
LOCATION:Apple Park\, Cupertino\, United States
STATUS:CONFIRMED
X-MICROSOFT-CDO-BUSYSTATUS:FREE
END:VEVENT
END:VCALENDAR
