BEGIN:VCALENDAR
VERSION:2.0
CALSCALE:GREGORIAN
PRODID:adamgibbons/ics
METHOD:PUBLISH
X-PUBLISHED-TTL:PT1H
BEGIN:VEVENT
UID:FphE-Jem8awP0UmdrZbU3
SUMMARY:Annular Solar Eclipse 2026
DTSTAMP:20260425T141713Z
DTSTART;VALUE=DATE:20260217
DTEND;VALUE=DATE:20260218
DESCRIPTION:An annular solar eclipse occurs when the Moon covers the Sun's 
	center\, leaving the outer edge visible as a bright ring. Visible from par
	ts of South America and Africa.
STATUS:CONFIRMED
X-MICROSOFT-CDO-BUSYSTATUS:FREE
END:VEVENT
END:VCALENDAR
